BEGIN:VCALENDAR
VERSION:2.0
PRODID:-//.05 Licence Back Victoria - ECPv5.3.1.1//NONSGML v1.0//EN
CALSCALE:GREGORIAN
METHOD:PUBLISH
X-WR-CALNAME:.05 Licence Back Victoria
X-ORIGINAL-URL:https://www.05licencebackvic.com.au
X-WR-CALDESC:Events for .05 Licence Back Victoria
BEGIN:VTIMEZONE
TZID:Australia/Melbourne
BEGIN:STANDARD
TZOFFSETFROM:+1100
TZOFFSETTO:+1000
TZNAME:AEST
DTSTART:20210403T160000
END:STANDARD
BEGIN:DAYLIGHT
TZOFFSETFROM:+1000
TZOFFSETTO:+1100
TZNAME:AEDT
DTSTART:20211002T160000
END:DAYLIGHT
END:VTIMEZONE
BEGIN:VEVENT
DTSTART;TZID=Australia/Melbourne:20210324T150000
DTEND;TZID=Australia/Melbourne:20210324T181500
DTSTAMP:20210226T150425
CREATED:20210215T071610Z
LAST-MODIFIED:20210225T013544Z
UID:2956-1616598000-1616609700@www.05licencebackvic.com.au
SUMMARY:Drug Driver BCP starting 17/3/21 (3:00-6:15pm)
DESCRIPTION:You must attend TWO 3-hour group sessions\, which are held a week apart\, with functional Zoom.us audio and visual connectivity required.\n4:30 to 4:45pm on: 17/3/21\, 24/3/21 \nPRELIMINARY STEPS: \nStep 1: Contact VicRoads Relicencing Division on 1300 723 790 (press option 2) to confirm that this is the program you are required to complete to satisfy your re-licencing requirements.\n\nStep 2: Request VicRoads to provide confirmation of such requirements in writing\, and sent to you via post or email.\n\nStep 3: Send us valid Photo ID eg. Passport\, Working with Children Check\, previous Drivers Licence. Use this link to send your ID document. \nStep 4: If claiming the concession price\, please email us a copy of your concession card. \nPAYMENT MUST BE MADE BEFORE THE COURSE BEGINS\, VIA CREDIT CARD OR BANK TRANSFER AND IT IS A CONDITION OF YOUR ATTENDANCE THAT YOU ARE NOT UNDER THE INFLUENCE OF ANY ILLICIT SUBSTANCES NOR ALCOHOL. \nWe have a strict policy in relation to cancellations; either for a request of a refund or re-booking due to the high demand for services at the present time. We require notification at least 2 days in advance from the commencement date\, should you not be able to partake in a scheduled program in which you have registered and request a refund\, however\, an administration fee of $50 will apply as well as the VicRoads Government Cost Recovery Fee. Please also note that after commencement of a program\, participants cannot reschedule a subsequent session of their program (Day 2 or Day 3)\, without first providing documented evidence for non-attendance and such then being approved by VicRoads. A transfer fee of $100 applies if a transfer is granted\, and if not\, no refunds can be offered. \nAll sessions are conducted in English and we are not able to accommodate the need for interpreters nor translators; please refer to https://www.tisnational.gov.au/en/Interpreters should such support be required. In cases where a support person is required\, such request must be produced in writing and special conditions apply. \n 
URL:https://www.05licencebackvic.com.au/event/drug-driver-bcp-starting-17-3-21-300-615pm/2021-03-24/
LOCATION:online\, Zoom\, Vic\, Australia
CATEGORIES:Drug Driver
ATTACH;FMTTYPE=image/png:https://www.05licencebackvic.com.au/wp-content/uploads/drugdriver-1.png
END:VEVENT
BEGIN:VEVENT
DTSTART;TZID=Australia/Melbourne:20210313T133000
DTEND;TZID=Australia/Melbourne:20210313T133000
DTSTAMP:20210226T150425
CREATED:20210215T072739Z
LAST-MODIFIED:20210215T072739Z
UID:3015-1615642200-1615642200@www.05licencebackvic.com.au
SUMMARY:Drink Driver BCP starting Sat. 6/3/21 (1:30pm-4:45pm)
DESCRIPTION:You must attend TWO 3-hour group participation sessions\, which are held a week apart\, with functional Zoom.us audio and visual connectivity.\n1:30pm to 4:45pm on: 6/3/21\, 13/3/21 \nPRELIMINARY STEPS: \nStep 1: Contact VicRoads Relicencing Division on 1300 723 790 (press option 2) to confirm that this is the program you are required to complete to satisfy your re-licencing requirements.\n\nStep 2: Request VicRoads to provide confirmation of such requirements in writing\, and sent to you via post or email.\n\nStep 3: Send us valid Photo ID eg. Passport\, Working with Children Check\, previous Drivers Licence. Use this link to send your ID document. \nStep 4: If claiming the concession price\, please email us a copy of your concession card. \nPAYMENT MUST BE MADE BEFORE THE COURSE BEGINS\, VIA CREDIT CARD OR BANK TRANSFER. \nWe have a strict policy in relation to cancellations; either for a request of a refund or re-booking due to the high demand for services at the present time. We require notification at least 2 days in advance from the commencement date\, should you not be able to partake in a scheduled program in which you have registered and request a refund\, however\, an administration fee of $50 will apply as well as the VicRoads Government Cost Recovery Fee. Please also note that after commencement of a program\, participants cannot reschedule a subsequent session of their program (Day 2 or Day 3)\, without first providing documented evidence for non-attendance and such then being approved by VicRoads. A transfer fee of $100 applies if a transfer is granted\, and if not\, no refunds can be offered. \nAll sessions are conducted in English and we are not able to accommodate the need for interpreters nor translators; please refer to https://www.tisnational.gov.au/en/Interpreters should such support be required. In cases where a support person is required\, such request must be produced in writing and special conditions apply. \n 
URL:https://www.05licencebackvic.com.au/event/drink-driver-bcp-starting-6-3-21-130pm-445pm/2021-03-13/
LOCATION:online\, Zoom\, Vic\, Australia
CATEGORIES:Drink Driver
ATTACH;FMTTYPE=image/png:https://www.05licencebackvic.com.au/wp-content/uploads/drinkdriver-1.png
END:VEVENT
BEGIN:VEVENT
DTSTART;TZID=Australia/Melbourne:20210311T150000
DTEND;TZID=Australia/Melbourne:20210311T181500
DTSTAMP:20210226T150425
CREATED:20210215T070404Z
LAST-MODIFIED:20210225T103420Z
UID:3032-1615474800-1615486500@www.05licencebackvic.com.au
SUMMARY:Intensive BCP starting 09/03/21 (3:00-6:15pm)
DESCRIPTION:You must attend THREE 3-hour group sessions\, which are held a week apart\, with functional Zoom.us audio and visual connectivity required.\n3:00pm to 6:15pm on: 09/03/21\, 16/03/21\, 23/03/21 \nPRELIMINARY STEPS: \nStep 1: Contact VicRoads Relicencing Division on 1300 723 790 (press option 2) to confirm that this is the program you are required to complete to satisfy your re-licencing requirements.\n\nStep 2: Request VicRoads to provide confirmation of such requirements in writing\, and sent to you via post or email.\n\nStep 3: Send us valid Photo ID eg. Passport\, Working with Children Check\, previous Drivers Licence. Use this link to send your ID document. \nStep 4: If claiming the concession price\, please email us a copy of your concession card. \nPAYMENT MUST BE MADE BEFORE THE COURSE BEGINS\, VIA CREDIT CARD OR BANK TRANSFER. \nWe have a strict policy in relation to cancellations; either for a request of a refund or re-booking due to the high demand for services at the present time. We require notification at least 2 days in advance from the commencement date\, should you not be able to partake in a scheduled program in which you have registered and request a refund\, however\, an administration fee of $50 will apply as well as the VicRoads Government Cost Recovery Fee. Please also note that after commencement of a program\, participants cannot reschedule a subsequent session of their program (Day 2 or Day 3)\, without first providing documented evidence for non-attendance and such then being approved by VicRoads. A transfer fee of $100 applies if a transfer is granted\, and if not\, no refunds can be offered. \nAll sessions are conducted in English and we are not able to accommodate the need for interpreters nor translators; please refer to https://www.tisnational.gov.au/en/Interpreters should such support be required. In cases where a support person is required\, such request must be produced in writing and special conditions apply.
URL:https://www.05licencebackvic.com.au/event/intensive-bcp-starting-09-03-21-300pm-615pm/2021-03-11/
LOCATION:online\, Zoom\, Vic\, Australia
CATEGORIES:Intensive Drink/Drug Driver
ATTACH;FMTTYPE=image/png:https://www.05licencebackvic.com.au/wp-content/uploads/intensive.png
END:VEVENT
BEGIN:VEVENT
DTSTART;TZID=Australia/Melbourne:20210309T190000
DTEND;TZID=Australia/Melbourne:20210309T210000
DTSTAMP:20210226T150425
CREATED:20210103T094019Z
LAST-MODIFIED:20210225T103008Z
UID:2636-1615316400-1615323600@www.05licencebackvic.com.au
SUMMARY:2-Hour Pre-Interlock Removal Program 09/03/21 (7-9pm)
DESCRIPTION:This is a single 2-hour evening group participation session\, requiring functional Zoom.us audio and visual connectivity.\nPRELIMINARY STEPS: \nStep 1: Contact VicRoads Relicencing Division on 1300 723 790 (press option 2) to confirm that this is the program you are required to complete to satisfy your re-licencing requirements.\n\nStep 2: Request VicRoads to provide confirmation of such requirements in writing\, and sent to you via post or email.\n\nStep 3: Send us valid Photo ID eg. Passport\, Working with Children Check\, previous Drivers Licence. Use this link to send your ID document. \nStep 4: If claiming the concession price\, please email us a copy of your concession card. \nPAYMENT MUST BE MADE BEFORE THE COURSE BEGINS\, VIA CREDIT CARD OR BANK TRANSFER. \nWe have a strict policy in relation to cancellations; either for a request of a refund or re-booking due to the high demand for services at the present time. We require notification at least 2 days in advance from the commencement date\, should you not be able to partake in a scheduled program in which you have registered and request a refund\, however\, an administration fee of $50 will apply. \nAll sessions are conducted in English and we are not able to accommodate the need for interpreters nor translators; please refer to https://www.tisnational.gov.au/en/Interpreters should such support be required. In cases where a support person is required\, such request must be produced in writing and special conditions apply.
URL:https://www.05licencebackvic.com.au/event/2-hour-pre-interlock-removal-program-09-03-21-7-9pm/
LOCATION:online\, Zoom\, Vic\, Australia
CATEGORIES:Intensive Drink/Drug Driver,Pre-interlock
ATTACH;FMTTYPE=image/png:https://www.05licencebackvic.com.au/wp-content/uploads/preinterlock-1.png
END:VEVENT
BEGIN:VEVENT
DTSTART;TZID=Australia/Melbourne:20210308T150000
DTEND;TZID=Australia/Melbourne:20210308T150000
DTSTAMP:20210226T150425
CREATED:20210103T094741Z
LAST-MODIFIED:20210225T103215Z
UID:2642-1615215600-1615215600@www.05licencebackvic.com.au
SUMMARY:Intensive BCP starting Mon. 08/03/21 (3:00pm-6:15pm)
DESCRIPTION:You must attend THREE 3-hour group sessions\, which are held a week apart\, with functional Zoom.us audio and visual connectivity required.\n3:00pm to 6:15pm on: 08/03/21\, 15/03/21\, 22/03/21 \nPRELIMINARY STEPS: \nStep 1: Contact VicRoads Relicencing Division on 1300 723 790 (press option 2) to confirm that this is the program you are required to complete to satisfy your re-licencing requirements.\n\nStep 2: Request VicRoads to provide confirmation of such requirements in writing\, and sent to you via post or email.\n\nStep 3: Send us valid Photo ID eg. Passport\, Working with Children Check\, previous Drivers Licence. Use this link to send your ID document. \nStep 4: If claiming the concession price\, please email us a copy of your concession card. \nPAYMENT MUST BE MADE BEFORE THE COURSE BEGINS\, VIA CREDIT CARD OR BANK TRANSFER. \nWe have a strict policy in relation to cancellations; either for a request of a refund or re-booking due to the high demand for services at the present time. We require notification at least 2 days in advance from the commencement date\, should you not be able to partake in a scheduled program in which you have registered and request a refund\, however\, an administration fee of $50 will apply as well as the VicRoads Government Cost Recovery Fee. Please also note that after commencement of a program\, participants cannot reschedule a subsequent session of their program (Day 2 or Day 3)\, without first providing documented evidence for non-attendance and such then being approved by VicRoads. A transfer fee of $100 applies if a transfer is granted\, and if not\, no refunds can be offered. \nAll sessions are conducted in English and we are not able to accommodate the need for interpreters nor translators; please refer to https://www.tisnational.gov.au/en/Interpreters should such support be required. In cases where a support person is required\, such request must be produced in writing and special conditions apply. \n 
URL:https://www.05licencebackvic.com.au/event/intensive-bcp-starting-08-03-21-300pm-615pm/2021-03-08/
LOCATION:online\, Zoom\, Vic\, Australia
CATEGORIES:Intensive Drink/Drug Driver
ATTACH;FMTTYPE=image/png:https://www.05licencebackvic.com.au/wp-content/uploads/intensive.png
END:VEVENT
END:VCALENDAR